BEGIN:VCALENDAR
VERSION:2.0
PRODID:-//ChamberMaster//Event Calendar 2.0//EN
METHOD:PUBLISH
X-PUBLISHED-TTL:P3D
REFRESH-INTERVAL:P3D
CALSCALE:GREGORIAN
BEGIN:VEVENT
DTSTART:20161110T214500Z
DTEND:20161110T230000Z
X-MICROSOFT-CDO-ALLDAYEVENT:FALSE
SUMMARY:Denison: 'Moss Morphology: More than Meets the Eye'
DESCRIPTION:The Ronneberg Fund and the Department of Biology welcome University of Tennessee-Knoxville professor Jessica Budke presenting "Moss Morphology: More Than Meets the Eye" at 4:45 p.m. on Thursday\, Nov. 10\, in Room 105 of Higley Hall (100 Ridge Road). This event is free and open to the public. For more information\, contact Jenny Etz at 740-587-6261 or visit Denison.edu. Budke's research focuses on the development\, evolution and function of plant structures\; the morphological features that are used to distinguish species taxonomically and those that are important for reproduction. She is an assistant professor in the department of ecology and evolutionary biology and director of the herbarium at the University of Tennessee-Knoxville.
X-ALT-DESC;FMTTYPE=text/html:The Ronneberg Fund and the Department of Biology welcome University of Tennessee-Knoxville professor Jessica Budke presenting &ldquo\;Moss Morphology: More Than Meets the Eye&rdquo\; at 4:45 p.m. on Thursday\, Nov. 10\, in Room 105 of Higley Hall (100 Ridge Road). This event is free and open to the public. For more information\, contact Jenny Etz at 740-587-6261 or visit Denison.edu. Budke&rsquo\;s research focuses on the development\, evolution and function of plant structures\; the morphological features that are used to distinguish species taxonomically and those that are important for reproduction. She is an assistant professor in the department of ecology and evolutionary biology and director of the herbarium at the University of Tennessee-Knoxville.
LOCATION:Denison University Higley Hall Room 105 100 Ridge Road Granville\, Ohio 43023
UID:e.180.10916
SEQUENCE:3
DTSTAMP:20260420T083527Z
URL:http://business.granvilleoh.com/events/details/denison-moss-morphology-more-than-meets-the-eye-10916
END:VEVENT

END:VCALENDAR
