BEGIN:VCALENDAR
VERSION:2.0
PRODID:-//ChamberMaster//Event Calendar 2.0//EN
METHOD:PUBLISH
X-PUBLISHED-TTL:P3D
REFRESH-INTERVAL:P3D
CALSCALE:GREGORIAN
BEGIN:VEVENT
DTSTART:20190417T230000Z
DTEND:20190418T000000Z
X-MICROSOFT-CDO-ALLDAYEVENT:FALSE
SUMMARY:Denison Orchestra concert
DESCRIPTION:Denison University's Department of Music presents an Orchestra concert\, directed Philip Rudd.
X-ALT-DESC;FMTTYPE=text/html:<span style="color:rgb(0\, 0\, 0)\; font-family:verdana\,geneva\,sans-serif\; font-size:12px"><span style="font-family:arial\; font-size:11pt">Denison University&#39\;s&nbsp\;</span></span><span style="color:rgb(0\, 0\, 0)\; font-family:verdana\,geneva\,sans-serif\; font-size:12px"><span style="font-family:arial\; font-size:11pt">Department of Music presents an Orchestra concert\, directed Philip Rudd.</span></span>
LOCATION:Denison University Swasey Chapel 200 Chapel Drive
UID:e.180.12530
SEQUENCE:3
DTSTAMP:20260420T050756Z
URL:http://business.granvilleoh.com/events/details/denison-orchestra-concert-04-17-2019-12530
END:VEVENT

END:VCALENDAR
