BEGIN:VCALENDAR
VERSION:2.0
PRODID:-//ChamberMaster//Event Calendar 2.0//EN
METHOD:PUBLISH
X-PUBLISHED-TTL:P3D
REFRESH-INTERVAL:P3D
CALSCALE:GREGORIAN
BEGIN:VEVENT
DTSTART:20190411T160000Z
DTEND:20190411T170000Z
X-MICROSOFT-CDO-ALLDAYEVENT:FALSE
SUMMARY:Denison Performance Minor Recital
DESCRIPTION:Denison University's Department of Music presents a Performance Minor Recital.
X-ALT-DESC;FMTTYPE=text/html:Denison University&#39\;s Department of Music presents a Performance Minor Recital.
LOCATION:Denison University Burke Hall of Music and Arts\, Recital Hall 240 West Broadway
UID:e.180.12527
SEQUENCE:3
DTSTAMP:20260420T050750Z
URL:http://business.granvilleoh.com/events/details/denison-performance-minor-recital-04-11-2019-12527
END:VEVENT

END:VCALENDAR
