BEGIN:VCALENDAR
VERSION:2.0
PRODID:-//ChamberMaster//Event Calendar 2.0//EN
METHOD:PUBLISH
X-PUBLISHED-TTL:P3D
REFRESH-INTERVAL:P3D
CALSCALE:GREGORIAN
BEGIN:VEVENT
DTSTART:20180420T010000Z
DTEND:20180420T023000Z
X-MICROSOFT-CDO-ALLDAYEVENT:FALSE
SUMMARY:Denison: Poetic Activism Workshop
DESCRIPTION:The Center for Women and Gender Action holds a Story Slam as part of the Poetic Activism Workshop series. Guests are invited to share their own works of poetic activism with the Denison community at an open mic night in the Bandersnatch.
X-ALT-DESC;FMTTYPE=text/html:The Center for Women and Gender Action holds a Story Slam as part of the Poetic Activism Workshop series. Guests are invited to share their own works of poetic activism with the Denison community at an open mic night in the Bandersnatch.
LOCATION:The Bandersnatch in Huffman Hall\, 700 East Loop\, Granville\, OH 43023
UID:e.180.11905
SEQUENCE:3
DTSTAMP:20260421T081546Z
URL:http://business.granvilleoh.com/events/details/denison-poetic-activism-workshop-04-19-2018-11905
END:VEVENT

END:VCALENDAR
