BEGIN:VCALENDAR
VERSION:2.0
PRODID:-//ChamberMaster//Event Calendar 2.0//EN
METHOD:PUBLISH
X-PUBLISHED-TTL:P3D
REFRESH-INTERVAL:P3D
CALSCALE:GREGORIAN
BEGIN:VEVENT
DTSTART:20180411T203000Z
DTEND:20180411T220000Z
X-MICROSOFT-CDO-ALLDAYEVENT:FALSE
SUMMARY:Denison: 'Post-Soviet Transition in Central Asia'
DESCRIPTION:Denison University welcomes Ohio State University professor Morgan Liu\, associate professor in anthropology and Near Eastern languages and cultures\, presenting "Post-Soviet Transition in Central Asia." This year's Celebration of Central Asia\, which takes place from March 26 to April 18 at various locations on the Denison campus\, features a textile exhibit\, panel discussion\, student-led panel and multiple lectures. Visit Denison.edu for more information.
X-ALT-DESC;FMTTYPE=text/html:Denison University welcomes Ohio State University professor Morgan Liu\, associate professor in anthropology and Near Eastern languages and cultures\, presenting &ldquo\;Post-Soviet Transition in Central Asia.&rdquo\; This year&rsquo\;s Celebration of Central Asia\, which takes place from March 26 to April 18 at various locations on the Denison campus\, features a textile exhibit\, panel discussion\, student-led panel and multiple lectures. Visit Denison.edu for more information.
LOCATION:F.W. Olin Science Hall\, Room 114\, Denison University\, 100 Sunset Hill\, Granville\, OH 43023
UID:e.180.11893
SEQUENCE:3
DTSTAMP:20260421T083320Z
URL:http://business.granvilleoh.com/events/details/denison-post-soviet-transition-in-central-asia-11893
END:VEVENT

END:VCALENDAR
