BEGIN:VCALENDAR
VERSION:2.0
PRODID:-//ChamberMaster//Event Calendar 2.0//EN
METHOD:PUBLISH
X-PUBLISHED-TTL:P3D
REFRESH-INTERVAL:P3D
CALSCALE:GREGORIAN
BEGIN:VEVENT
DTSTART:20190921T190000Z
DTEND:20190921T230000Z
X-MICROSOFT-CDO-ALLDAYEVENT:FALSE
SUMMARY:Denison's Bluegrass Ensemble Concert at Ohiolina 2019
DESCRIPTION:Denison University's Bluegrass Ensemble performs at Ohiolina Music Festival. Ohiolina is a family-friendly weekend long celebration of the music and culture rooted in the I-77 corridor. The Bluegrass Ensemble performs at 3 p.m. and 5 p.m. on Saturday.\n\nDenison Student discount tickets available.
X-ALT-DESC;FMTTYPE=text/html:<div>\n<div>\n<div>\n<div>\n<div>\n<div>\n<div>\n<div>\n<p>Denison University&rsquo\;s Bluegrass Ensemble performs at Ohiolina Music Festival. Ohiolina is a family-friendly weekend long celebration of the music and culture rooted in the I-77 corridor. The Bluegrass Ensemble performs at 3 p.m. and 5 p.m. on Saturday.</p>\n\n<p>Denison Student discount tickets available.&nbsp\;</p>\n\n<div>&nbsp\;</div>\n</div>\n</div>\n</div>\n</div>\n</div>\n</div>\n</div>\n</div>\n
LOCATION:Infirmary Mound Park 4351 Lancaster Road Granville\, Ohio 43023
UID:e.180.12887
SEQUENCE:3
DTSTAMP:20260422T115727Z
URL:http://business.granvilleoh.com/events/details/denison-s-bluegrass-ensemble-concert-at-ohiolina-2019-12887
END:VEVENT

END:VCALENDAR
