BEGIN:VCALENDAR
VERSION:2.0
PRODID:-//ChamberMaster//Event Calendar 2.0//EN
METHOD:PUBLISH
X-PUBLISHED-TTL:P3D
REFRESH-INTERVAL:P3D
CALSCALE:GREGORIAN
BEGIN:VEVENT
DTSTART:20190205T003000Z
DTEND:20190205T013000Z
X-MICROSOFT-CDO-ALLDAYEVENT:FALSE
SUMMARY:Denison’s Global Studies Seminar with Joseph Reczek
DESCRIPTION:The Global Studies Seminars\, an interdisciplinary intellectual forum for the Denison community to discuss and debate academic and policy issues of global importance\, bring a series of open discussion seminars to the community.\n\n\n\nJoseph Reczek\, Associate Professor of Chemistry presenting\, "Productive Changes for a Changing Climate."
X-ALT-DESC;FMTTYPE=text/html:<span style="background-color:transparent\; color:rgb(0\, 0\, 0)\; font-family:arial\; font-size:11pt">The Global Studies Seminars\, an interdisciplinary intellectual forum for the Denison community to discuss and debate academic and policy issues of global importance\, bring a series of open discussion seminars to the community.<br />\n<br />\nJoseph Reczek\, Associate Professor of Chemistry presenting\, &ldquo\;Productive Changes for a Changing Climate.&rdquo\; </span>
LOCATION:Denison University Room 105 of Higley Hall 100 Ridge Road
UID:e.180.12412
SEQUENCE:3
DTSTAMP:20260420T022547Z
URL:http://business.granvilleoh.com/events/details/denison-s-global-studies-seminar-02-04-2019-12412
END:VEVENT

END:VCALENDAR
