BEGIN:VCALENDAR
VERSION:2.0
PRODID:-//ChamberMaster//Event Calendar 2.0//EN
METHOD:PUBLISH
X-PUBLISHED-TTL:P3D
REFRESH-INTERVAL:P3D
CALSCALE:GREGORIAN
BEGIN:VEVENT
DTSTART:20190212T003000Z
DTEND:20190212T013000Z
X-MICROSOFT-CDO-ALLDAYEVENT:FALSE
SUMMARY:Denison’s Global Studies Seminar with Hadi Jorati
DESCRIPTION:The Global Studies Seminars\, an interdisciplinary intellectual forum for the Denison community to discuss and debate academic and policy issues of global importance\, bring a series of open discussion seminars to the community.\n\n\n\nHadi Jorati\, Assistant Professor of Near Eastern Languages and Cultures at The Ohio State University presenting\, "The Sciences in the Golden Age of Islam."
X-ALT-DESC;FMTTYPE=text/html:<span style="background-color:transparent\; color:rgb(0\, 0\, 0)\; font-family:arial\; font-size:11pt">The Global Studies Seminars\, an interdisciplinary intellectual forum for the Denison community to discuss and debate academic and policy issues of global importance\, bring a series of open discussion seminars to the community.<br />\n<br />\nHadi Jorati\, Assistant Professor of Near Eastern Languages and Cultures at The Ohio State University presenting\, &ldquo\;The Sciences in the Golden Age of Islam.&rdquo\; </span>
LOCATION:Denison University Slayter Hall 200 Ridge Road
UID:e.180.12413
SEQUENCE:3
DTSTAMP:20260420T022606Z
URL:http://business.granvilleoh.com/events/details/denison-s-global-studies-seminar-02-11-2019-12413
END:VEVENT

END:VCALENDAR
