BEGIN:VCALENDAR
VERSION:2.0
PRODID:-//ChamberMaster//Event Calendar 2.0//EN
METHOD:PUBLISH
X-PUBLISHED-TTL:P3D
REFRESH-INTERVAL:P3D
CALSCALE:GREGORIAN
BEGIN:VEVENT
DTSTART:20190226T000000Z
DTEND:20190226T010000Z
X-MICROSOFT-CDO-ALLDAYEVENT:FALSE
SUMMARY:Denison’s Global Studies Seminar with Najla Said
DESCRIPTION:The Global Studies Seminars\, an interdisciplinary intellectual forum for the Denison community to discuss and debate academic and policy issues of global importance\, bring a series of open discussion seminars to the community.\n\n\n\nInternational studies and the Global Studies Seminar celebrate Denison's 4th annual Refugee Awareness Week together and welcome Palestinian-American author Najla Said presenting her book\, "Looking for Palestine: Growing up confused in an Arab-American Family."
X-ALT-DESC;FMTTYPE=text/html:<span style="background-color:transparent\; color:rgb(0\, 0\, 0)\; font-family:arial\; font-size:11pt">The Global Studies Seminars\, an interdisciplinary intellectual forum for the Denison community to discuss and debate academic and policy issues of global importance\, bring a series of open discussion seminars to the community.<br />\n<br />\nInternational studies and the Global Studies Seminar celebrate Denison&#39\;s 4th annual Refugee Awareness Week together and welcome Palestinian-American author Najla Said presenting her book\, &quot\;Looking for Palestine: Growing up confused in an Arab-American Family.&quot\; </span>
LOCATION:Denison University Herrick Hall 600 West Loop
UID:e.180.12415
SEQUENCE:3
DTSTAMP:20260420T022607Z
URL:http://business.granvilleoh.com/events/details/denison-s-global-studies-seminar-02-25-2019-12415
END:VEVENT

END:VCALENDAR
