BEGIN:VCALENDAR
VERSION:2.0
PRODID:-//ChamberMaster//Event Calendar 2.0//EN
METHOD:PUBLISH
X-PUBLISHED-TTL:P3D
REFRESH-INTERVAL:P3D
CALSCALE:GREGORIAN
BEGIN:VEVENT
DTSTART:20190305T003000Z
DTEND:20190305T013000Z
X-MICROSOFT-CDO-ALLDAYEVENT:FALSE
SUMMARY:Denison’s Global Studies Seminar with Amanda Al-Raba’a
DESCRIPTION:The Global Studies Seminars\, an interdisciplinary intellectual forum for the Denison community to discuss and debate academic and policy issues of global importance\, bring a series of open discussion seminars to the community.\n\n\n\nAmanda Al-Raba'a\, Visiting Instructor of Comparative Literature at Oberlin College presenting\, "Blogging as Cultural Translation during the Iraq War."
X-ALT-DESC;FMTTYPE=text/html:<span style="background-color:transparent\; color:rgb(0\, 0\, 0)\; font-family:arial\; font-size:11pt">The Global Studies Seminars\, an interdisciplinary intellectual forum for the Denison community to discuss and debate academic and policy issues of global importance\, bring a series of open discussion seminars to the community.<br />\n<br />\nAmanda Al-Raba&rsquo\;a\, Visiting Instructor of Comparative Literature at Oberlin College presenting\, &ldquo\;Blogging as Cultural Translation during the Iraq War.&rdquo\; </span>
LOCATION:Denison University Slayter Hall 200 Ridge Road
UID:e.180.12416
SEQUENCE:3
DTSTAMP:20260420T034814Z
URL:http://business.granvilleoh.com/events/details/denison-s-global-studies-seminar-03-04-2019-12416
END:VEVENT

END:VCALENDAR
