BEGIN:VCALENDAR
VERSION:2.0
PRODID:-//ChamberMaster//Event Calendar 2.0//EN
METHOD:PUBLISH
X-PUBLISHED-TTL:P3D
REFRESH-INTERVAL:P3D
CALSCALE:GREGORIAN
BEGIN:VEVENT
DTSTART:20190924T223000Z
DTEND:20190925T010000Z
X-MICROSOFT-CDO-ALLDAYEVENT:FALSE
SUMMARY:The Denison Museum and Global Studies Seminar presents an opening reception and artist talk with Ashley Currier
DESCRIPTION:The Global Studies Seminar presents an opening reception of "About Ourselves/Inside Ourselves" and artist talk titled "Looking for Solidarity: Lessons from African Feminist and LGBTQ Organizing\," with Ashley Currier\, professor of women's\, gender\, and sexuality studies at the University of Cincinnati.\n\nCurrier researches gender and sexual diversity politics in southern and West Africa. Her books include "Out in Africa: LGBT Organizing in Namibia and South Africa" and "Politicizing Sex in Contemporary Africa: Homophobia in Malawi." Her research has appeared in Australian Feminist Studies\, Critical African Studies\, Feminist Formations\, Gender and Society\, GLQ\, Journal of Lesbian Studies\, Mobilization\, Politique Africaine\, Qualitative Sociology\, Signs: Journal of Women in Culture and Society\, Social Movement Studies\, Space and Polity\, Studies in Law\, Politics\, and Society\, and Women's Studies Quarterly.\n\nIn some African countries\, politicized homophobia makes it difficult for activists to advocate for LGBTQ rights. In Malawi and Namibia\, LGBTQ activists have turned to HIV/AIDS\, human rights\, and women's rights movements for solidarity. In this presentation\, drawing on original research in Malawi and Namibia\, Currier explains why some women's rights activists do not express solidarity for LGBTQ rights publicly and what this means for LGBTQ rights organizing on the African continent.\n\n\n\nThe Denison Museum presents an exhibition about LGBTQ+ identities. "About Ourselves/Inside Ourselves" explores individual artists' depictions of the interaction between their LGBTQ+ identities and their history. The artists featured document their own stories as LGBTQ+ individuals\, and provide examples that describe struggle and oppression\, as well as love\, resilience\, and joy.\n\nOpening reception for "About Ourselves/Inside Ourselves" at 6:30 p.m. \n\nExhibition on display Sept. 24 through Dec. 13.\n\nArtist Talk at 7:30 p.m.
X-ALT-DESC;FMTTYPE=text/html:<p>The Global Studies Seminar presents an opening reception of &ldquo\;About Ourselves/Inside Ourselves&rdquo\; and artist&nbsp\;talk titled &ldquo\;Looking for Solidarity: Lessons from African Feminist and LGBTQ Organizing\,&rdquo\; with Ashley Currier\, professor of women&rsquo\;s\, gender\, and sexuality studies at the University of Cincinnati.</p>\n\n<p>Currier researches gender and sexual diversity politics in southern and West Africa. Her books include &ldquo\;Out in Africa: LGBT Organizing in Namibia and South Africa&rdquo\; and &ldquo\;Politicizing Sex in Contemporary Africa: Homophobia in Malawi.&rdquo\; Her research has appeared in Australian Feminist Studies\, Critical African Studies\, Feminist Formations\, Gender and Society\, GLQ\, Journal of Lesbian Studies\, Mobilization\, Politique Africaine\, Qualitative Sociology\, Signs: Journal of Women in Culture and Society\, Social Movement Studies\, Space and Polity\, Studies in Law\, Politics\, and Society\, and Women&rsquo\;s Studies Quarterly.</p>\n\n<p>In some African countries\, politicized homophobia makes it difficult for activists to advocate for LGBTQ rights. In Malawi and Namibia\, LGBTQ activists have turned to HIV/AIDS\, human rights\, and women&rsquo\;s rights movements for solidarity. In this presentation\, drawing on original research in Malawi and Namibia\, Currier explains why some women&rsquo\;s rights activists do not express solidarity for LGBTQ rights publicly and what this means for LGBTQ rights organizing on the African continent.<br />\n<br />\nThe Denison Museum presents an exhibition about LGBTQ+ identities. &ldquo\;About Ourselves/Inside Ourselves&rdquo\; explores individual artists&rsquo\; depictions of the interaction between their LGBTQ+ identities and their history. The artists featured document their own stories as LGBTQ+ individuals\, and provide examples that describe struggle and oppression\, as well as love\, resilience\, and joy.</p>\n\n<p>Opening reception for &ldquo\;About Ourselves/Inside Ourselves&rdquo\; at 6:30 p.m.&nbsp\;</p>\n\n<p>Exhibition on display Sept. 24 through Dec. 13.</p>\n\n<p>Artist Talk at 7:30 p.m.</p>\n\n<div><br />\n&nbsp\;</div>\n
LOCATION:Denison University Denison Museum in the Michael D. Eisner Center for the Performing Arts 240 West Broadway
UID:e.180.12861
SEQUENCE:3
DTSTAMP:20260422T115600Z
URL:http://business.granvilleoh.com/events/details/denison-s-global-studies-seminar-presents-an-opening-reception-and-artist-talk-with-ashley-currier-12861
END:VEVENT

END:VCALENDAR
