BEGIN:VCALENDAR
VERSION:2.0
PRODID:-//ChamberMaster//Event Calendar 2.0//EN
METHOD:PUBLISH
X-PUBLISHED-TTL:P3D
REFRESH-INTERVAL:P3D
CALSCALE:GREGORIAN
BEGIN:VEVENT
DTSTART:20191008T233000Z
DTEND:20191009T010000Z
X-MICROSOFT-CDO-ALLDAYEVENT:FALSE
SUMMARY:Denison’s Global Studies Seminar presents Courtney Dorroll
DESCRIPTION:The Global Studies Seminar and the Goodspeed Lecture Series presents Courtney Dorroll\, assistant professor of religion at Wofford College presenting\, "Teaching Islamic Studies in the Age of ISIS\, Islamophobia\, and the Internet."
X-ALT-DESC;FMTTYPE=text/html:<span style="color:rgb(42\, 42\, 51)\; font-family:arial\; font-size:11pt">The Global Studies Seminar and the Goodspeed Lecture Series presents&nbsp\;</span><span style="font-size:11pt">Courtney Dorroll\, assistant professor of religion at Wofford College presenting\, &quot\;Teaching Islamic Studies in the Age of ISIS\, Islamophobia\, and the Internet.&quot\;</span>
LOCATION:Denison University Auditorium of Slayter Hall 200 Ridge Road
UID:e.180.12869
SEQUENCE:3
DTSTAMP:20260422T131611Z
URL:http://business.granvilleoh.com/events/details/denison-s-global-studies-seminar-presents-courtney-dorroll-12869
END:VEVENT

END:VCALENDAR
