BEGIN:VCALENDAR
VERSION:2.0
PRODID:-//ChamberMaster//Event Calendar 2.0//EN
METHOD:PUBLISH
X-PUBLISHED-TTL:P3D
REFRESH-INTERVAL:P3D
CALSCALE:GREGORIAN
BEGIN:VEVENT
DTSTART:20191021T233000Z
DTEND:20191022T010000Z
X-MICROSOFT-CDO-ALLDAYEVENT:FALSE
SUMMARY:Denison’s Global Studies Seminar presents Dalia Gomaa
DESCRIPTION:The Global Studies Seminar presents Dalia Gomaa\, visiting assistant professor of women's and gender studies at Denison presenting\, "Archipelagic Penal Spaces: The Abject Female Soldier and the Iraqi Muslim Woman in Helen Benedict's Sand Queen."
X-ALT-DESC;FMTTYPE=text/html:<span style="background-color:transparent\; font-family:arial\; font-size:11pt">The Global Studies Seminar presents&nbsp\;</span><span style="font-size:11pt">Dalia Gomaa\, visiting assistant professor of women&#39\;s and gender studies at Denison presenting\, &quot\;Archipelagic Penal Spaces: The Abject Female Soldier and the Iraqi Muslim Woman in Helen Benedict&#39\;s Sand Queen.&quot\;</span>
LOCATION:Denison University Shepardson College Room of Denison University's Slayter Hall 200 Ridge Road
UID:e.180.12871
SEQUENCE:3
DTSTAMP:20260422T131354Z
URL:http://business.granvilleoh.com/events/details/denison-s-global-studies-seminar-presents-dalia-gomaa-12871
END:VEVENT

END:VCALENDAR
