BEGIN:VCALENDAR
VERSION:2.0
PRODID:-//ChamberMaster//Event Calendar 2.0//EN
METHOD:PUBLISH
X-PUBLISHED-TTL:P3D
REFRESH-INTERVAL:P3D
CALSCALE:GREGORIAN
BEGIN:VEVENT
DTSTART:20190909T233000Z
DTEND:20190910T010000Z
X-MICROSOFT-CDO-ALLDAYEVENT:FALSE
SUMMARY:Denison’s Global Studies Seminar presents Dane Imerman
DESCRIPTION:The Global Studies Seminar presents Dane Imerman\, visiting assistant professor of political science and international studies at Denison presenting\, "Constraining the Use of Force in Successive International Orders."
X-ALT-DESC;FMTTYPE=text/html:<span style="background-color:transparent\; color:rgb(0\, 0\, 0)\; font-family:arial\; font-size:11pt">The Global Studies Seminar presents&nbsp\;</span><span style="background-color:transparent\; font-size:11pt">Dane Imerman\, visiting assistant professor of political science and international studies at Denison presenting\, &quot\;Constraining the Use of Force in Successive International Orders.&quot\;</span><br />\n&nbsp\;
LOCATION:Denison University Shepardson College Room of Denison University's Slayter Hall 200 Ridge Road
UID:e.180.12859
SEQUENCE:3
DTSTAMP:20260422T115247Z
URL:http://business.granvilleoh.com/events/details/denison-s-global-studies-seminar-presents-dane-imerman-12859
END:VEVENT

END:VCALENDAR
