BEGIN:VCALENDAR
VERSION:2.0
PRODID:-//ChamberMaster//Event Calendar 2.0//EN
METHOD:PUBLISH
X-PUBLISHED-TTL:P3D
REFRESH-INTERVAL:P3D
CALSCALE:GREGORIAN
BEGIN:VEVENT
DTSTART:20191014T233000Z
DTEND:20191015T010000Z
X-MICROSOFT-CDO-ALLDAYEVENT:FALSE
SUMMARY:Denison’s Global Studies Seminar presents David H. Mould
DESCRIPTION:The Global Studies Seminar presents David H. Mould\, professor emeritus of media arts and studies at Ohio University presenting\, "Around the Indian Ocean-Academic Misadventures."
X-ALT-DESC;FMTTYPE=text/html:<span style="background-color:transparent\; font-family:arial\; font-size:11pt">The Global Studies Seminar presents&nbsp\;</span><span style="font-size:11pt">David H. Mould\, professor emeritus of media arts and studies at Ohio University presenting\, &quot\;Around the Indian Ocean-Academic Misadventures.&quot\;&nbsp\;</span>
LOCATION:Denison University Shepardson College Room of Denison University's Slayter Hall 200 Ridge Road
UID:e.180.12870
SEQUENCE:3
DTSTAMP:20260422T131311Z
URL:http://business.granvilleoh.com/events/details/denison-s-global-studies-seminar-presents-david-h-mould-12870
END:VEVENT

END:VCALENDAR
