BEGIN:VCALENDAR
VERSION:2.0
PRODID:-//ChamberMaster//Event Calendar 2.0//EN
METHOD:PUBLISH
X-PUBLISHED-TTL:P3D
REFRESH-INTERVAL:P3D
CALSCALE:GREGORIAN
BEGIN:VEVENT
DTSTART:20190930T233000Z
DTEND:20191001T010000Z
X-MICROSOFT-CDO-ALLDAYEVENT:FALSE
SUMMARY:Denison’s Global Studies Seminar presents Hanada Al-Masri and Cheryl Johnson
DESCRIPTION:The Global Studies Seminar presents Hanada Al-Masri\, associate professor of arabic\, modern languages and international studies at Denison and Cheryl Johnson\, instructional technologist of modern languages and information technology services at Denison presenting\, "Oral History Project: The Arab American Community in Central Ohio: Negotiating Cultural Identities and Adapting Traditions."
X-ALT-DESC;FMTTYPE=text/html:<p><span style="background-color:transparent\; color:rgb(0\, 0\, 0)\; font-family:arial\; font-size:11pt">The Global Studies Seminar presents&nbsp\;</span><span style="font-size:11pt">Hanada Al-Masri\, associate professor of arabic\, modern languages and international studies at Denison and Cheryl Johnson\, instructional technologist of modern languages and information technology services at Denison presenting\, </span><span style="background-color:transparent\; font-size:11pt">&quot\;Oral History Project: The Arab American Community in Central Ohio: Negotiating Cultural Identities and Adapting Traditions.&quot\;&nbsp\;</span></p>\n
LOCATION:Denison University Shepardson College Room of Denison University's Slayter Hall 200 Ridge Road
UID:e.180.12862
SEQUENCE:3
DTSTAMP:20260422T115554Z
URL:http://business.granvilleoh.com/events/details/denison-s-global-studies-seminar-presents-hanada-al-masri-and-cheryl-johnson-12862
END:VEVENT

END:VCALENDAR
