BEGIN:VCALENDAR
VERSION:2.0
PRODID:-//ChamberMaster//Event Calendar 2.0//EN
METHOD:PUBLISH
X-PUBLISHED-TTL:P3D
REFRESH-INTERVAL:P3D
CALSCALE:GREGORIAN
BEGIN:VEVENT
DTSTART:20190916T233000Z
DTEND:20190917T010000Z
X-MICROSOFT-CDO-ALLDAYEVENT:FALSE
SUMMARY:Denison’s Global Studies Seminar presents Michael Stone Tangeman
DESCRIPTION:The Global Studies Seminar presents Michael Stone Tangeman\, associate professor of modern languages and east asian studies at Denison presenting\, "Matsumoto Seicho and "Japan's Black Fog:" Turning Malfeasance into Popular Fiction."
X-ALT-DESC;FMTTYPE=text/html:<span style="background-color:transparent\; color:rgb(0\, 0\, 0)\; font-family:arial\; font-size:11pt">The Global Studies Seminar presents&nbsp\;</span><span style="background-color:transparent\; font-size:11pt">Michael Stone Tangeman\, associate professor of modern languages and east asian studies at Denison presenting\, &quot\;Matsumoto Seicho and &quot\;Japan&#39\;s Black Fog:&quot\; Turning Malfeasance into Popular Fiction.&quot\;</span><br />\n<br />\n&nbsp\;
LOCATION:Denison University Shepardson College Room of Denison University's Slayter Hall 200 Ridge Road
UID:e.180.12860
SEQUENCE:3
DTSTAMP:20260422T115356Z
URL:http://business.granvilleoh.com/events/details/denison-s-global-studies-seminar-presents-michael-stone-tangeman-12860
END:VEVENT

END:VCALENDAR
