BEGIN:VCALENDAR
VERSION:2.0
PRODID:-//ChamberMaster//Event Calendar 2.0//EN
METHOD:PUBLISH
X-PUBLISHED-TTL:P3D
REFRESH-INTERVAL:P3D
CALSCALE:GREGORIAN
BEGIN:VEVENT
DTSTART:20191028T233000Z
DTEND:20191029T010000Z
X-MICROSOFT-CDO-ALLDAYEVENT:FALSE
SUMMARY:Denison’s Global Studies Seminar presents Pedro Cadenas
DESCRIPTION:The Global Studies Seminar presents Pedro Cadenas\, assistant professor of economics at Denison presenting\, "The Venezuelan Collapse."
X-ALT-DESC;FMTTYPE=text/html:<span style="background-color:transparent\; font-family:arial\; font-size:11pt">The Global Studies Seminar presents&nbsp\;</span><span style="font-size:11pt">Pedro Cadenas\, assistant professor of economics at Denison presenting\, &quot\;The Venezuelan Collapse.&quot\;</span>
LOCATION:Denison University Shepardson College Room of Denison University's Slayter Hall 200 Ridge Road
UID:e.180.12872
SEQUENCE:3
DTSTAMP:20260422T131355Z
URL:http://business.granvilleoh.com/events/details/denison-s-global-studies-seminar-presents-pedro-cadenas-12872
END:VEVENT

END:VCALENDAR
