BEGIN:VCALENDAR
VERSION:2.0
PRODID:-//ChamberMaster//Event Calendar 2.0//EN
METHOD:PUBLISH
X-PUBLISHED-TTL:P3D
REFRESH-INTERVAL:P3D
CALSCALE:GREGORIAN
BEGIN:VEVENT
DTSTART:20191007T233000Z
DTEND:20191008T010000Z
X-MICROSOFT-CDO-ALLDAYEVENT:FALSE
SUMMARY:Denison’s Global Studies Seminar presents Yeliz Cavus
DESCRIPTION:The Global Studies Seminar presents Yeliz Cavus\, a Ph.D. candidate and graduate teaching associate in the department of Near Eastern Languages and Cultures at The Ohio State University presenting\, "Historians Connecting Globally: The Ottoman Historical Society in the Era of Global Professionalism in Historical Studies."
X-ALT-DESC;FMTTYPE=text/html:<span style="background-color:transparent\; color:rgb(0\, 0\, 0)\; font-family:arial\; font-size:11pt">The Global Studies Seminar presents&nbsp\;</span><span style="font-size:11pt">Yeliz Cavus\, a Ph.D. candidate and graduate teaching associate in the department of Near Eastern Languages and Cultures at The Ohio State University presenting\, &quot\;Historians Connecting Globally: The Ottoman Historical Society in the Era of Global Professionalism in Historical Studies.&quot\;</span>
LOCATION:Denison University Shepardson College Room of Denison University's Slayter Hall 200 Ridge Road
UID:e.180.12868
SEQUENCE:3
DTSTAMP:20260422T131503Z
URL:http://business.granvilleoh.com/events/details/denison-s-global-studies-seminar-presents-yeliz-cavus-12868
END:VEVENT

END:VCALENDAR
