BEGIN:VCALENDAR
VERSION:2.0
PRODID:-//ChamberMaster//Event Calendar 2.0//EN
METHOD:PUBLISH
X-PUBLISHED-TTL:P3D
REFRESH-INTERVAL:P3D
CALSCALE:GREGORIAN
BEGIN:VEVENT
DTSTART:20190408T233000Z
DTEND:20190409T003000Z
X-MICROSOFT-CDO-ALLDAYEVENT:FALSE
SUMMARY:Denison’s Global Studies Seminar with Andy McCall
DESCRIPTION:The Global Studies Seminars\, an interdisciplinary intellectual forum for the Denison community to discuss and debate academic and policy issues of global importance\, bring a series of open discussion seminars to the community.\n\n\n\nAndy McCall\, Associate Professor of Biology presenting\, "Mosquitos and Global Health."
X-ALT-DESC;FMTTYPE=text/html:<span style="background-color:transparent\; color:rgb(0\, 0\, 0)\; font-family:arial\; font-size:11pt">The Global Studies Seminars\, an interdisciplinary intellectual forum for the Denison community to discuss and debate academic and policy issues of global importance\, bring a series of open discussion seminars to the community.</span><br />\n<br />\n<span style="background-color:transparent\; color:rgb(0\, 0\, 0)\; font-family:arial\; font-size:11pt">Andy McCall\, Associate Professor of Biology presenting\, &ldquo\;Mosquitos and Global Health.&quot\;</span>
LOCATION:Denison University Slayter Hall 200 Ridge Road
UID:e.180.12419
SEQUENCE:3
DTSTAMP:20260420T050750Z
URL:http://business.granvilleoh.com/events/details/denison-s-global-studies-seminar-with-andy-mccall-04-22-2019-12419
END:VEVENT

END:VCALENDAR
