BEGIN:VCALENDAR
VERSION:2.0
PRODID:-//ChamberMaster//Event Calendar 2.0//EN
METHOD:PUBLISH
X-PUBLISHED-TTL:P3D
REFRESH-INTERVAL:P3D
CALSCALE:GREGORIAN
BEGIN:VEVENT
DTSTART:20190422T233000Z
DTEND:20190423T003000Z
X-MICROSOFT-CDO-ALLDAYEVENT:FALSE
SUMMARY:Denison’s Global Studies Seminar with Jason Busic\, Cheryl Johnson and Simran Ali
DESCRIPTION:The Global Studies Seminars\, an interdisciplinary intellectual forum for the Denison community to discuss and debate academic and policy issues of global importance\, bring a series of open discussion seminars to the community.\n\n\n\nJason Busic\, Associate Professor of Spanish\, Cheryl Johnson\, Instructional Technologist of Modern Languages and Student researcher\, Simran Ali presenting\, "The Arabic New Testament in Medieval Iberia and the Maghreb\, Munich Cod.Arab. 238: Creating a Digital Edition."
X-ALT-DESC;FMTTYPE=text/html:<span style="background-color:transparent\; color:rgb(0\, 0\, 0)\; font-family:arial\; font-size:11pt">The Global Studies Seminars\, an interdisciplinary intellectual forum for the Denison community to discuss and debate academic and policy issues of global importance\, bring a series of open discussion seminars to the community.</span><br />\n<br />\n<span style="background-color:transparent\; color:rgb(0\, 0\, 0)\; font-family:arial\; font-size:11pt">Jason Busic\, Associate Professor of Spanish\, Cheryl Johnson\, Instructional Technologist of Modern Languages and Student researcher\, Simran Ali presenting\, &ldquo\;The Arabic New Testament in Medieval Iberia and the Maghreb\, Munich Cod.Arab. 238: Creating a Digital Edition.&rdquo\;</span><span style="background-color:transparent\; color:rgb(0\, 0\, 0)\; font-family:arial\; font-size:11pt"> </span>
LOCATION:Denison University Slayter Hall 200 Ridge Road
UID:e.180.12418
SEQUENCE:3
DTSTAMP:20260420T050632Z
URL:http://business.granvilleoh.com/events/details/denison-s-global-studies-seminar-with-andy-mccall-12418
END:VEVENT

END:VCALENDAR
