BEGIN:VCALENDAR
VERSION:2.0
PRODID:-//ChamberMaster//Event Calendar 2.0//EN
METHOD:PUBLISH
X-PUBLISHED-TTL:P3D
REFRESH-INTERVAL:P3D
CALSCALE:GREGORIAN
BEGIN:VEVENT
DTSTART:20190401T233000Z
DTEND:20190402T003000Z
X-MICROSOFT-CDO-ALLDAYEVENT:FALSE
SUMMARY:Denison’s Global Studies Seminar with Fatima Taylor
DESCRIPTION:The Global Studies Seminars\, an interdisciplinary intellectual forum for the Denison community to discuss and debate academic and policy issues of global importance\, bring a series of open discussion seminars to the community.\n\n\n\nFatima Taylor\, Fine Artist from Ohio University presenting\, "Artistic Influence of the Soviet Era."
X-ALT-DESC;FMTTYPE=text/html:<span style="background-color:transparent\; color:rgb(0\, 0\, 0)\; font-family:arial\; font-size:11pt">The Global Studies Seminars\, an interdisciplinary intellectual forum for the Denison community to discuss and debate academic and policy issues of global importance\, bring a series of open discussion seminars to the community.</span><br />\n<br />\n<span style="color:rgb(0\, 0\, 0)\; font-family:arial\; font-size:14.6667px">Fatima Taylor\, Fine Artist from Ohio University presenting\, &ldquo\;Artistic Influence of the Soviet Era.&quot\;</span><span style="background-color:transparent\; color:rgb(0\, 0\, 0)\; font-family:arial\; font-size:11pt"> </span>
LOCATION:Denison University Slayter Hall 200 Ridge Road
UID:e.180.12417
SEQUENCE:3
DTSTAMP:20260420T062737Z
URL:http://business.granvilleoh.com/events/details/denison-s-global-studies-seminar-with-fatima-taylor-12417
END:VEVENT

END:VCALENDAR
