BEGIN:VCALENDAR
VERSION:2.0
PRODID:-//ChamberMaster//Event Calendar 2.0//EN
METHOD:PUBLISH
X-PUBLISHED-TTL:P3D
REFRESH-INTERVAL:P3D
CALSCALE:GREGORIAN
BEGIN:VEVENT
DTSTART:20190429T233000Z
DTEND:20190430T003000Z
X-MICROSOFT-CDO-ALLDAYEVENT:FALSE
SUMMARY:Denison’s Global Studies Seminar with Sao-yun Yang
DESCRIPTION:The Global Studies Seminars\, an interdisciplinary intellectual forum for the Denison community to discuss and debate academic and policy issues of global importance\, bring a series of open discussion seminars to the community.\n\n\n\nSao-yun Yang\, Assistant Professor of East Asian History presenting\, "Was Confucius a Bigot? Ethnic Prejudice as a Philosophical Problem in Medieval China."
X-ALT-DESC;FMTTYPE=text/html:<span style="background-color:transparent\; color:rgb(0\, 0\, 0)\; font-family:arial\; font-size:11pt">The Global Studies Seminars\, an interdisciplinary intellectual forum for the Denison community to discuss and debate academic and policy issues of global importance\, bring a series of open discussion seminars to the community.</span><br />\n<br />\n<span style="background-color:transparent\; color:rgb(0\, 0\, 0)\; font-family:arial\; font-size:11pt">Sao-yun Yang\, Assistant Professor of East Asian History presenting\, &ldquo\;Was Confucius a Bigot? Ethnic Prejudice as a Philosophical Problem in Medieval China.&rdquo\;</span><span style="background-color:transparent\; color:rgb(0\, 0\, 0)\; font-family:arial\; font-size:11pt"> </span>
LOCATION:Denison University Slayter Hall 200 Ridge Road
UID:e.180.12420
SEQUENCE:3
DTSTAMP:20260420T050750Z
URL:http://business.granvilleoh.com/events/details/denison-s-global-studies-seminar-with-sao-yun-yang-12420
END:VEVENT

END:VCALENDAR
