BEGIN:VCALENDAR
VERSION:2.0
PRODID:-//ChamberMaster//Event Calendar 2.0//EN
METHOD:PUBLISH
X-PUBLISHED-TTL:P3D
REFRESH-INTERVAL:P3D
CALSCALE:GREGORIAN
BEGIN:VEVENT
DTSTART:20190309T150000Z
DTEND:20190309T160000Z
X-MICROSOFT-CDO-ALLDAYEVENT:FALSE
SUMMARY:Denison's TUTTI Festival: A concert
DESCRIPTION:Denison University's Department of Music collaborates with musicians\, composers\, fine artists\, dance artists\, theatre\, and creative people across genres to present the TUTTI Original Works Festival\, a days-long celebration of original works.\n\n\n\nDenison University's TUTTI Festival presents a concert.
X-ALT-DESC;FMTTYPE=text/html:<span style="background-color:transparent\; color:rgb(0\, 0\, 0)\; font-family:times new roman\; font-size:12pt">Denison </span><span style="background-color:transparent\; color:rgb(0\, 0\, 0)\; font-family:arial\; font-size:11pt">University&rsquo\;s Department of Music collaborates with musicians\, composers\, fine artists\, dance artists\, theatre\, and creative people across genres to present the TUTTI Original Works Festival\, a days-long celebration of original works.</span><br />\n<br />\nDenison University&rsquo\;s TUTTI Festival presents a concert.
LOCATION:Denison University Performance Lab of Knapp Hall 300 Ridge Road
UID:e.180.12474
SEQUENCE:3
DTSTAMP:20260420T035903Z
URL:http://business.granvilleoh.com/events/details/denison-s-tutti-festival-a-concert-12474
END:VEVENT

END:VCALENDAR
