BEGIN:VCALENDAR
VERSION:2.0
PRODID:-//ChamberMaster//Event Calendar 2.0//EN
METHOD:PUBLISH
X-PUBLISHED-TTL:P3D
REFRESH-INTERVAL:P3D
CALSCALE:GREGORIAN
BEGIN:VEVENT
DTSTART:20190307T200000Z
DTEND:20190307T210000Z
X-MICROSOFT-CDO-ALLDAYEVENT:FALSE
SUMMARY:Denison's TUTTI Festival: A concert with the Columbus Symphony String Quartet
DESCRIPTION:Denison University's Department of Music collaborates with musicians\, composers\, fine artists\, dance artists\, theatre\, and creative people across genres to present the TUTTI Original Works Festival\, a days-long celebration of original works.\n\n\n\nA concert with the Columbus Symphony String Quartet.
X-ALT-DESC;FMTTYPE=text/html:<span style="background-color:transparent\; color:rgb(0\, 0\, 0)\; font-family:times new roman\; font-size:12pt">Denison </span><span style="background-color:transparent\; color:rgb(0\, 0\, 0)\; font-family:arial\; font-size:11pt">University&rsquo\;s Department of Music collaborates with musicians\, composers\, fine artists\, dance artists\, theatre\, and creative people across genres to present the TUTTI Original Works Festival\, a days-long celebration of original works.<br />\n<br />\nA concert with the </span>Columbus Symphony String Quartet<span style="background-color:transparent\; color:rgb(0\, 0\, 0)\; font-family:arial\; font-size:11pt">.</span>
LOCATION:Denison University Burke Hall of Music and Arts\, Recital Hall 240 West Broadway
UID:e.180.12469
SEQUENCE:3
DTSTAMP:20260420T035832Z
URL:http://business.granvilleoh.com/events/details/denison-s-tutti-festival-a-concert-with-the-columbus-string-quartet-12469
END:VEVENT

END:VCALENDAR
