BEGIN:VCALENDAR
VERSION:2.0
PRODID:-//ChamberMaster//Event Calendar 2.0//EN
METHOD:PUBLISH
X-PUBLISHED-TTL:P3D
REFRESH-INTERVAL:P3D
CALSCALE:GREGORIAN
BEGIN:VEVENT
DTSTART:20190306T233000Z
DTEND:20190307T003000Z
X-MICROSOFT-CDO-ALLDAYEVENT:FALSE
SUMMARY:Denison's TUTTI Festival: A Philosophy of Music symposium
DESCRIPTION:Denison University's Department of Music collaborates with musicians\, composers\, fine artists\, dance artists\, theatre\, and creative people across genres to present the TUTTI Original Works Festival\, a days-long celebration of original works.\n\n\n\nA Philosophy of Music symposium featuring performances by ETHEL\, and guest lecturers\, Professor of Philosophy at Villanova University John Carvalho \, Professor of Philosophy at Minnesota State Ted Gracyk\, independent composer and musician Mark Lomax II and ETHEL.
X-ALT-DESC;FMTTYPE=text/html:<span style="background-color:transparent\; color:rgb(0\, 0\, 0)\; font-family:times new roman\; font-size:12pt">Denison </span><span style="background-color:transparent\; color:rgb(0\, 0\, 0)\; font-family:arial\; font-size:11pt">University&rsquo\;s Department of Music collaborates with musicians\, composers\, fine artists\, dance artists\, theatre\, and creative people across genres to present the TUTTI Original Works Festival\, a days-long celebration of original works.<br />\n<br />\nA Philosophy of Music symposium featuring performances by ETHEL\, and guest lecturers\, Professor of Philosophy at Villanova University John Carvalho \, Professor of Philosophy at Minnesota State Ted Gracyk\, independent composer and musician Mark Lomax II and ETHEL.</span>
LOCATION:Denison University Burke Hall of Music and Arts\, Recital Hall 240 West Broadway
UID:e.180.12468
SEQUENCE:3
DTSTAMP:20260420T040047Z
URL:http://business.granvilleoh.com/events/details/denison-s-tutti-festival-a-philosophy-of-music-symposium-12468
END:VEVENT

END:VCALENDAR
