BEGIN:VCALENDAR
VERSION:2.0
PRODID:-//ChamberMaster//Event Calendar 2.0//EN
METHOD:PUBLISH
X-PUBLISHED-TTL:P3D
REFRESH-INTERVAL:P3D
CALSCALE:GREGORIAN
BEGIN:VEVENT
DTSTART:20190306T010000Z
DTEND:20190306T020000Z
X-MICROSOFT-CDO-ALLDAYEVENT:FALSE
SUMMARY:Denison's TUTTI Festival: Artist talk and concert
DESCRIPTION:Denison University's Department of Music collaborates with musicians\, composers\, fine artists\, dance artists\, theatre\, and creative people across genres to present the TUTTI Original Works Festival\, a days-long celebration of original works.\n\n\n\nArtist talk and concert that will feature the collaborations of Ethel\, Jesse Lanier '20\, Harrison Ponce\, Matthew Jackfort\, and artist Nathalie Miebach.
X-ALT-DESC;FMTTYPE=text/html:<span style="background-color:transparent\; color:rgb(0\, 0\, 0)\; font-family:times new roman\; font-size:12pt">Denison </span><span style="background-color:transparent\; color:rgb(0\, 0\, 0)\; font-family:arial\; font-size:11pt">University&rsquo\;s Department of Music collaborates with musicians\, composers\, fine artists\, dance artists\, theatre\, and creative people across genres to present the TUTTI Original Works Festival\, a days-long celebration of original works.<br />\n<br />\nArtist talk and concert that will feature the collaborations of Ethel\, Jesse Lanier &#39\;20\, Harrison Ponce\, Matthew Jackfort\, and artist Nathalie Miebach.</span>
LOCATION:Denison University Denison Museum 240 West Broadway
UID:e.180.12467
SEQUENCE:3
DTSTAMP:20260420T040237Z
URL:http://business.granvilleoh.com/events/details/denison-s-tutti-festival-artist-talk-and-concert-12467
END:VEVENT

END:VCALENDAR
