BEGIN:VCALENDAR
VERSION:2.0
PRODID:-//ChamberMaster//Event Calendar 2.0//EN
METHOD:PUBLISH
X-PUBLISHED-TTL:P3D
REFRESH-INTERVAL:P3D
CALSCALE:GREGORIAN
BEGIN:VEVENT
DTSTART:20190308T000000Z
DTEND:20190308T010000Z
X-MICROSOFT-CDO-ALLDAYEVENT:FALSE
SUMMARY:Denison's TUTTI Festival: The Denison Wind Ensemble\, the Symphony Orchestra and ETHEL
DESCRIPTION:Denison University's Department of Music collaborates with musicians\, composers\, fine artists\, dance artists\, theatre\, and creative people across genres to present the TUTTI Original Works Festival\, a days-long celebration of original works.\n\n\n\nThe Denison Wind Ensemble\, the Symphony Orchestra and guest artists ETHEL with commissioned work by Ching-chu Hu and HyeKyung Lee for ETHEL and Wind Ensemble.
X-ALT-DESC;FMTTYPE=text/html:<span style="background-color:transparent\; color:rgb(0\, 0\, 0)\; font-family:times new roman\; font-size:12pt">Denison </span><span style="background-color:transparent\; color:rgb(0\, 0\, 0)\; font-family:arial\; font-size:11pt">University&rsquo\;s Department of Music collaborates with musicians\, composers\, fine artists\, dance artists\, theatre\, and creative people across genres to present the TUTTI Original Works Festival\, a days-long celebration of original works.<br />\n<br />\nThe Denison Wind Ensemble\, the Symphony Orchestra </span><span style="color:rgb(0\, 0\, 0)\; font-family:arial\; font-size:11pt">and guest artists ETHEL with commissioned work by Ching-chu Hu and HyeKyung Lee for ETHEL and Wind Ensemble.</span>
LOCATION:Denison University Burke Hall of Music and Arts\, Recital Hall 240 West Broadway
UID:e.180.12470
SEQUENCE:3
DTSTAMP:20260420T035832Z
URL:http://business.granvilleoh.com/events/details/denison-s-tutti-festival-the-denison-wind-ensemble-the-symphony-orchestra-and-ethel-12470
END:VEVENT

END:VCALENDAR
