BEGIN:VCALENDAR
VERSION:2.0
PRODID:-//ChamberMaster//Event Calendar 2.0//EN
METHOD:PUBLISH
X-PUBLISHED-TTL:P3D
REFRESH-INTERVAL:P3D
CALSCALE:GREGORIAN
BEGIN:VEVENT
DTSTART:20190309T000000Z
DTEND:20190309T010000Z
X-MICROSOFT-CDO-ALLDAYEVENT:FALSE
SUMMARY:Denison's TUTTI Festival: 'Words and Music'
DESCRIPTION:Denison University's Department of Music collaborates with musicians\, composers\, fine artists\, dance artists\, theatre\, and creative people across genres to present the TUTTI Original Works Festival\, a days-long celebration of original works.\n\n\n\n"Words and Music" with ETHEL and actor Michael Lockwood Crouch performing stories written by Denison students.
X-ALT-DESC;FMTTYPE=text/html:<span style="background-color:transparent\; color:rgb(0\, 0\, 0)\; font-family:times new roman\; font-size:12pt">Denison </span><span style="background-color:transparent\; color:rgb(0\, 0\, 0)\; font-family:arial\; font-size:11pt">University&rsquo\;s Department of Music collaborates with musicians\, composers\, fine artists\, dance artists\, theatre\, and creative people across genres to present the TUTTI Original Works Festival\, a days-long celebration of original works.<br />\n<br />\n&quot\;Words and Music&quot\; with ETHEL and actor Michael Lockwood Crouch performing stories written by Denison students.</span>
LOCATION:Denison University Burke Hall of Music and Arts\, Recital Hall 240 West Broadway
UID:e.180.12473
SEQUENCE:3
DTSTAMP:20260420T040010Z
URL:http://business.granvilleoh.com/events/details/denison-s-tutti-festival-words-and-music-12473
END:VEVENT

END:VCALENDAR
