BEGIN:VCALENDAR
VERSION:2.0
PRODID:-//ChamberMaster//Event Calendar 2.0//EN
METHOD:PUBLISH
X-PUBLISHED-TTL:P3D
REFRESH-INTERVAL:P3D
CALSCALE:GREGORIAN
BEGIN:VEVENT
DTSTART:20190326T233000Z
DTEND:20190327T003000Z
X-MICROSOFT-CDO-ALLDAYEVENT:FALSE
SUMMARY:Denison Senior Meg Odell
DESCRIPTION:Denison University's Department of Music welcomes Meg Odell presenting a senior showcase of musical theatre\, dance\, and drama.
X-ALT-DESC;FMTTYPE=text/html:Denison University&#39\;s Department of Music welcomes&nbsp\;Meg Odell presenting&nbsp\;a senior showcase of musical theatre\, dance\, and drama.
LOCATION:Denison University Burke Hall of Music and Arts\, Recital Hall 240 West Broadway
UID:e.180.12490
SEQUENCE:3
DTSTAMP:20260420T050701Z
URL:http://business.granvilleoh.com/events/details/denison-senior-meg-odell-12490
END:VEVENT

END:VCALENDAR
