BEGIN:VCALENDAR
VERSION:2.0
PRODID:-//ChamberMaster//Event Calendar 2.0//EN
METHOD:PUBLISH
X-PUBLISHED-TTL:P3D
REFRESH-INTERVAL:P3D
CALSCALE:GREGORIAN
BEGIN:VEVENT
DTSTART:20190412T233000Z
DTEND:20190413T003000Z
X-MICROSOFT-CDO-ALLDAYEVENT:FALSE
SUMMARY:Denison Senior Olivia Van Goor recital
DESCRIPTION:Denison University's Department of Music welcomes Olivia Van Goor presenting a mezzo-soprano senior recital.
X-ALT-DESC;FMTTYPE=text/html:<span style="color:rgb(0\, 0\, 0)\; font-family:verdana\,geneva\,sans-serif\; font-size:12px"><span style="font-family:arial\; font-size:11pt">Denison University&#39\;s </span></span><span style="color:rgb(0\, 0\, 0)\; font-family:verdana\,geneva\,sans-serif\; font-size:12px"><span style="font-family:arial\; font-size:11pt">Department of Music welcomes </span><span style="font-family:arial\; font-size:11pt">Olivia Van Goor presenting</span><span style="font-family:arial\; font-size:11pt"> a </span><span style="font-family:arial\; font-size:11pt">mezzo-soprano </span><span style="font-family:arial\; font-size:11pt">senior recital.</span></span>
LOCATION:Denison University Burke Hall of Music and Arts\, Recital Hall 240 West Broadway
UID:e.180.12528
SEQUENCE:3
DTSTAMP:20260420T050816Z
URL:http://business.granvilleoh.com/events/details/denison-senior-olivia-van-goor-recital-12528
END:VEVENT

END:VCALENDAR
