BEGIN:VCALENDAR
VERSION:2.0
PRODID:-//ChamberMaster//Event Calendar 2.0//EN
METHOD:PUBLISH
X-PUBLISHED-TTL:P3D
REFRESH-INTERVAL:P3D
CALSCALE:GREGORIAN
BEGIN:VEVENT
DTSTART:20190329T233000Z
DTEND:20190330T003000Z
X-MICROSOFT-CDO-ALLDAYEVENT:FALSE
SUMMARY:Denison Senior Reilly Harring
DESCRIPTION:Denison University's Department of Music welcomes Denison senior Reilly Harring presenting a recital in soprano.
X-ALT-DESC;FMTTYPE=text/html:<span style="color:rgb(38\, 38\, 38)\; font-family:arial\; font-size:14.6667px">Denison University&#39\;s&nbsp\;</span><span style="color:rgb(0\, 0\, 0)\; font-family:arial\; font-size:11pt">Department of Music welcomes Denison senior Reilly Harring presenting a recital in soprano.</span>
LOCATION:Denison University Burke Hall of Music and Arts\, Recital Hall 240 West Broadway
UID:e.180.12493
SEQUENCE:3
DTSTAMP:20260420T034742Z
URL:http://business.granvilleoh.com/events/details/denison-senior-reilly-harring-12493
END:VEVENT

END:VCALENDAR
