BEGIN:VCALENDAR
VERSION:2.0
PRODID:-//ChamberMaster//Event Calendar 2.0//EN
METHOD:PUBLISH
X-PUBLISHED-TTL:P3D
REFRESH-INTERVAL:P3D
CALSCALE:GREGORIAN
BEGIN:VEVENT
DTSTART:20190409T230000Z
DTEND:20190410T000000Z
X-MICROSOFT-CDO-ALLDAYEVENT:FALSE
SUMMARY:Denison Senior Sam Rice recital
DESCRIPTION:Denison University's Department of Music welcomes Sam Rice presenting a guitar senior recital.
X-ALT-DESC;FMTTYPE=text/html:<span style="color:rgb(0\, 0\, 0)\; font-family:verdana\,geneva\,sans-serif\; font-size:12px"><span style="font-family:arial\; font-size:11pt">Denison University&#39\;s </span></span><span style="color:rgb(0\, 0\, 0)\; font-family:verdana\,geneva\,sans-serif\; font-size:12px"><span style="font-family:arial\; font-size:11pt">Department of Music welcomes </span><span style="font-family:arial\; font-size:11pt">Sam Rice presenting</span><span style="font-family:arial\; font-size:11pt"> a </span><span style="font-family:arial\; font-size:11pt">guitar&nbsp\;</span><span style="font-family:arial\; font-size:11pt">senior recital.</span></span>
LOCATION:Denison University Burke Hall of Music and Arts\, Recital Hall 240 West Broadway
UID:e.180.12572
SEQUENCE:3
DTSTAMP:20260420T050615Z
URL:http://business.granvilleoh.com/events/details/denison-senior-sam-rice-recital-12572
END:VEVENT

END:VCALENDAR
