BEGIN:VCALENDAR
VERSION:2.0
PRODID:-//ChamberMaster//Event Calendar 2.0//EN
METHOD:PUBLISH
X-PUBLISHED-TTL:P3D
REFRESH-INTERVAL:P3D
CALSCALE:GREGORIAN
BEGIN:VEVENT
DTSTART:20180427T200000Z
DTEND:20180427T230000Z
X-MICROSOFT-CDO-ALLDAYEVENT:FALSE
SUMMARY:Denison: Senior studio art exhibit
DESCRIPTION:Denison's Studio Art Department presents a senior studio art exhibition titled "THE SUN IS A POMEGRANATE SEED" at the Denison Art Space in Newark. The evening will feature artists' talks from 4 to 5 p.m. and an opening reception from 5 to 7 p.m. The group show features eleven students\, all working across various media with different focuses. The featured artists are Ali Rose\, Grace Heutel\, Arnav Somani\, Jiaxin 'Katie' Liu\, Ash Egloff\, Elliot Avis\, Li XIE\, Ivy Distler\, Andy Lin\, Celena Gilmore and Sage Rucci.
X-ALT-DESC;FMTTYPE=text/html:Denison&rsquo\;s Studio Art Department presents a senior studio art exhibition titled &ldquo\;THE SUN IS A POMEGRANATE SEED&rdquo\; at the Denison Art Space in Newark. The evening will feature artists&rsquo\; talks from 4 to 5 p.m. and an opening reception from 5 to 7 p.m. The group show features eleven students\, all working across various media with different focuses. The featured artists are Ali Rose\, Grace Heutel\, Arnav Somani\, Jiaxin &lsquo\;Katie&rsquo\; Liu\, Ash Egloff\, Elliot Avis\, Li XIE\, Ivy Distler\, Andy Lin\, Celena Gilmore and Sage Rucci.
LOCATION:Denison Art Space in Newark\, 23 West Church\, Newark\, OH 43055
UID:e.180.11914
SEQUENCE:3
DTSTAMP:20260421T081325Z
URL:http://business.granvilleoh.com/events/details/denison-senior-studio-art-exhibit-11914
END:VEVENT

END:VCALENDAR
