BEGIN:VCALENDAR
VERSION:2.0
PRODID:-//ChamberMaster//Event Calendar 2.0//EN
METHOD:PUBLISH
X-PUBLISHED-TTL:P3D
REFRESH-INTERVAL:P3D
CALSCALE:GREGORIAN
BEGIN:VEVENT
DTSTART:20191114T000000Z
DTEND:20191114T013000Z
X-MICROSOFT-CDO-ALLDAYEVENT:FALSE
SUMMARY:Denison Solo Recital with guest pianist Igor Lovchinsky
DESCRIPTION:The Department of Music presents a solo recital with guest pianist Igor Lovchinsky.
X-ALT-DESC;FMTTYPE=text/html:<p><span style="color:rgb(0\, 0\, 0)\; font-family:arial\; font-size:11pt">The Department of Music presents a solo recital with guest pianist Igor Lovchinsky.</span></p>\n\n<div>&nbsp\;</div>\n
LOCATION:Denison University Michael D. Eisner Center for the Performing Arts Burke Recital Hall 240 W. Broadway
UID:e.180.12915
SEQUENCE:3
DTSTAMP:20260422T161209Z
URL:http://business.granvilleoh.com/events/details/denison-solo-recital-with-guest-pianist-igor-lovchinsky-12915
END:VEVENT

END:VCALENDAR
