BEGIN:VCALENDAR
VERSION:2.0
PRODID:-//ChamberMaster//Event Calendar 2.0//EN
METHOD:PUBLISH
X-PUBLISHED-TTL:P3D
REFRESH-INTERVAL:P3D
CALSCALE:GREGORIAN
BEGIN:VEVENT
DTSTART:20180429T000000Z
DTEND:20180429T013000Z
X-MICROSOFT-CDO-ALLDAYEVENT:FALSE
SUMMARY:Denison: Spring dance concert
DESCRIPTION:The Department of Dance presents presents a spring dance concert titled "Move Moved Moving" featuring works by Visiting Artist Molly Shanahan '90 and Denison professor and choreographer Sandra Mathern. This concert features two original works for two different spaces\; beginning in the Doane Dance Building\, the audience will move to the MIX Gallery on Mulberry Street.
X-ALT-DESC;FMTTYPE=text/html:The Department of Dance presents presents a spring dance concert titled &ldquo\;Move Moved Moving&rdquo\; featuring works by Visiting Artist Molly Shanahan &rsquo\;90 and Denison professor and choreographer Sandra Mathern. This concert features two original works for two different spaces\; beginning in the Doane Dance Building\, the audience will move to the MIX Gallery on Mulberry Street.
LOCATION:Doane Dance Performance Space\, Denison University\, 231 West College Street\, Granville\, OH 43023
UID:e.180.11920
SEQUENCE:3
DTSTAMP:20260421T081309Z
URL:http://business.granvilleoh.com/events/details/denison-spring-dance-concert-11920
END:VEVENT

END:VCALENDAR
