BEGIN:VCALENDAR
VERSION:2.0
PRODID:-//ChamberMaster//Event Calendar 2.0//EN
METHOD:PUBLISH
X-PUBLISHED-TTL:P3D
REFRESH-INTERVAL:P3D
CALSCALE:GREGORIAN
BEGIN:VEVENT
DTSTART:20180426T153000Z
DTEND:20180426T163000Z
X-MICROSOFT-CDO-ALLDAYEVENT:FALSE
SUMMARY:Denison: Student Composers Concert
DESCRIPTION:The Department of Music presents a Student Composers concert under the direction of Ching-chu Hu.
X-ALT-DESC;FMTTYPE=text/html:The Department of Music presents a Student Composers concert under the direction of Ching-chu Hu.
LOCATION:Burke Hall\, Recital Hall\, Denison University\, 240 West Broadway\, Granville\, OH 43023
UID:e.180.11913
SEQUENCE:3
DTSTAMP:20260421T100625Z
URL:http://business.granvilleoh.com/events/details/denison-student-composers-concert-04-26-2018-11913
END:VEVENT

END:VCALENDAR
