BEGIN:VCALENDAR
VERSION:2.0
PRODID:-//ChamberMaster//Event Calendar 2.0//EN
METHOD:PUBLISH
X-PUBLISHED-TTL:P3D
REFRESH-INTERVAL:P3D
CALSCALE:GREGORIAN
BEGIN:VEVENT
DTSTART:20191205T170000Z
DTEND:20191205T180000Z
X-MICROSOFT-CDO-ALLDAYEVENT:FALSE
SUMMARY:Denison Student Composers Recital
DESCRIPTION:The Department of Music presents a student composers recital.
X-ALT-DESC;FMTTYPE=text/html:<span style="color:rgb(0\, 0\, 0)\; font-family:arial\; font-size:11pt">The Department of Music presents a student composers recital.</span>
LOCATION:Denison University Burke Recital Hall of the Michael D. Eisner Center for the Performing Arts 240 West Broadway
UID:e.180.13959
SEQUENCE:3
DTSTAMP:20260422T172801Z
URL:http://business.granvilleoh.com/events/details/denison-student-composers-recital-13959
END:VEVENT

END:VCALENDAR
