BEGIN:VCALENDAR
VERSION:2.0
PRODID:-//ChamberMaster//Event Calendar 2.0//EN
METHOD:PUBLISH
X-PUBLISHED-TTL:P3D
REFRESH-INTERVAL:P3D
CALSCALE:GREGORIAN
BEGIN:VEVENT
DTSTART:20190404T160000Z
DTEND:20190404T170000Z
X-MICROSOFT-CDO-ALLDAYEVENT:FALSE
SUMMARY:Denison Student Recital
DESCRIPTION:Denison University's Department of Music presents a student recital.
X-ALT-DESC;FMTTYPE=text/html:<span style="color:rgb(0\, 0\, 0)\; font-family:arial\; font-size:11pt">Denison University&#39\;s Department of Music presents a student recital.</span>
LOCATION:Denison University Recital Hall of the Burke Hall of Music and Art 240 West Broadway
UID:e.180.12523
SEQUENCE:3
DTSTAMP:20260420T050632Z
URL:http://business.granvilleoh.com/events/details/denison-student-recital-04-04-2019-12523
END:VEVENT

END:VCALENDAR
