BEGIN:VCALENDAR
VERSION:2.0
PRODID:-//ChamberMaster//Event Calendar 2.0//EN
METHOD:PUBLISH
X-PUBLISHED-TTL:P3D
REFRESH-INTERVAL:P3D
CALSCALE:GREGORIAN
BEGIN:VEVENT
DTSTART:20191212T170000Z
DTEND:20191212T180000Z
X-MICROSOFT-CDO-ALLDAYEVENT:FALSE
SUMMARY:Denison Student Recital
DESCRIPTION:The Department of Music presents a student recital.
X-ALT-DESC;FMTTYPE=text/html:<span style="background-color:transparent\; color:rgb(0\, 0\, 0)\; font-family:arial\; font-size:11pt">The Department of Music presents a student recital.</span>
LOCATION:Denison University Burke Recital Hall of the Michael D. Eisner Center for the Performing Arts 240 West Broadway
UID:e.180.13962
SEQUENCE:3
DTSTAMP:20260422T160818Z
URL:http://business.granvilleoh.com/events/details/denison-student-recital-12-12-2019-13962
END:VEVENT

END:VCALENDAR
