BEGIN:VCALENDAR
VERSION:2.0
PRODID:-//ChamberMaster//Event Calendar 2.0//EN
METHOD:PUBLISH
X-PUBLISHED-TTL:P3D
REFRESH-INTERVAL:P3D
CALSCALE:GREGORIAN
BEGIN:VEVENT
DTSTART:20190317T190000Z
DTEND:20190317T200000Z
X-MICROSOFT-CDO-ALLDAYEVENT:FALSE
SUMMARY:Denison Suzuki Program
DESCRIPTION:Denison University's Department of Music presents a Suzuki Program.
X-ALT-DESC;FMTTYPE=text/html:<span style="color:rgb(38\, 38\, 38)\; font-family:arial\; font-size:14.6667px">Denison University&#39\;s Department of Music presents a Suzuki Program.</span>
LOCATION:Denison University Burke Hall of Music and Arts\, Recital Hall 240 West Broadway
UID:e.180.12489
SEQUENCE:3
DTSTAMP:20260420T035150Z
URL:http://business.granvilleoh.com/events/details/denison-student-recital-with-anne-mills-03-17-2019-12489
END:VEVENT

END:VCALENDAR
