BEGIN:VCALENDAR
VERSION:2.0
PRODID:-//ChamberMaster//Event Calendar 2.0//EN
METHOD:PUBLISH
X-PUBLISHED-TTL:P3D
REFRESH-INTERVAL:P3D
CALSCALE:GREGORIAN
BEGIN:VEVENT
DTSTART:20190314T233000Z
DTEND:20190315T003000Z
X-MICROSOFT-CDO-ALLDAYEVENT:FALSE
SUMMARY:Denison Student Recital with Anne Mills
DESCRIPTION:The Department of Music welcomes senior Anne Mills presenting a viola recital.
X-ALT-DESC;FMTTYPE=text/html:<span style="color:rgb(38\, 38\, 38)\; font-family:arial\; font-size:11pt">The Department of Music welcomes </span><span style="color:rgb(69\, 69\, 69)\; font-family:arial\; font-size:11pt">senior</span><span style="color:rgb(0\, 0\, 0)\; font-family:arial\; font-size:11pt"> Anne Mills presenting a viola recital.</span>
LOCATION:Denison University Burke Hall of Music and Arts\, Recital Hall 240 West Broadway
UID:e.180.12488
SEQUENCE:3
DTSTAMP:20260420T034957Z
URL:http://business.granvilleoh.com/events/details/denison-student-recital-with-anne-mills-12488
END:VEVENT

END:VCALENDAR
