BEGIN:VCALENDAR
VERSION:2.0
PRODID:-//ChamberMaster//Event Calendar 2.0//EN
METHOD:PUBLISH
X-PUBLISHED-TTL:P3D
REFRESH-INTERVAL:P3D
CALSCALE:GREGORIAN
BEGIN:VEVENT
DTSTART:20180422T000000Z
DTEND:20180422T013000Z
X-MICROSOFT-CDO-ALLDAYEVENT:FALSE
SUMMARY:Denison: 'The Call'
DESCRIPTION:The Denison Fringe Festival presents "The Call\," an original play written by Francesca Mouery '19. After the freak & accidental death of his brother\, Danny Bowen has lived a reclusive life within the four walls of his own living room for the past three years. Isolating himself from the outside world\, he leads a very lonely & delusional existence\, his only company being three taxidermist heads that he had hunted down in his "past life" as an avid hunter. But\, when an unassuming visitor arrives\, unknowingly challenging Danny's life as he knows it\, the memories of his haunted past begin to come to life\, revealing just what led up to the fateful incident that changed his life forever. When a small group of theatre artists programmed some alternative work on the periphery of the inaugural Edinburgh Festival in Scotland in 1947\, they ignited the "fringe festival" movement\, fostering exciting\, non-traditional\, and limits-expanding theatre around the world. The Denison Fringe will include a series of diverse original performances by students and faculty\, guests\, and student organizations and celebrate the theatre-making of Denisonians.
X-ALT-DESC;FMTTYPE=text/html:The Denison Fringe Festival presents &ldquo\;The Call\,&rdquo\; an original play written by Francesca Mouery &rsquo\;19. After the freak &amp\; accidental death of his brother\, Danny Bowen has lived a reclusive life within the four walls of his own living room for the past three years. Isolating himself from the outside world\, he leads a very lonely &amp\; delusional existence\, his only company being three taxidermist heads that he had hunted down in his &ldquo\;past life&rdquo\; as an avid hunter. But\, when an unassuming visitor arrives\, unknowingly challenging Danny&rsquo\;s life as he knows it\, the memories of his haunted past begin to come to life\, revealing just what led up to the fateful incident that changed his life forever. When a small group of theatre artists programmed some alternative work on the periphery of the inaugural Edinburgh Festival in Scotland in 1947\, they ignited the &ldquo\;fringe festival&rdquo\; movement\, fostering exciting\, non-traditional\, and limits-expanding theatre around the world. The Denison Fringe will include a series of diverse original performances by students and faculty\, guests\, and student organizations and celebrate the theatre-making of Denisonians.
LOCATION:Knapp Performance Space\, Denison University\, 300 Ridge Road\, Granville\, OH 43023
UID:e.180.11909
SEQUENCE:3
DTSTAMP:20260421T083537Z
URL:http://business.granvilleoh.com/events/details/denison-the-call-11909
END:VEVENT

END:VCALENDAR
