BEGIN:VCALENDAR
VERSION:2.0
PRODID:-//ChamberMaster//Event Calendar 2.0//EN
METHOD:PUBLISH
X-PUBLISHED-TTL:P3D
REFRESH-INTERVAL:P3D
CALSCALE:GREGORIAN
BEGIN:VEVENT
DTSTART:20180517T220000Z
DTEND:20180517T233000Z
X-MICROSOFT-CDO-ALLDAYEVENT:FALSE
SUMMARY:Denison: 'The Cleveland School in Zanesville'
DESCRIPTION:Professor Joy Sperling presents a talk at the Zanesville Museum of Art titled "The Cleveland School in Zanesville: Some Observations." The talk accompanies an exhibition of the Cleveland School at the Zanesville Museum that is being shown in two parts: "A Rural Life" and "An Urban Life." The exhibition will feature about forty drawings and paintings by Cleveland based artists at the beginning of the twentieth century.
X-ALT-DESC;FMTTYPE=text/html:Professor Joy Sperling presents a talk at the Zanesville Museum of Art titled &ldquo\;The Cleveland School in Zanesville: Some Observations.&rdquo\; The talk accompanies an exhibition of the Cleveland School at the Zanesville Museum that is being shown in two parts: &ldquo\;A Rural Life&rdquo\; and &ldquo\;An Urban Life.&rdquo\; The exhibition will feature about forty drawings and paintings by Cleveland based artists at the beginning of the twentieth century.
LOCATION:Zanesville Museum of Art\, 620 Military Road\, Zanesville\, OH 43701
UID:e.180.11940
SEQUENCE:3
DTSTAMP:20260421T101006Z
URL:http://business.granvilleoh.com/events/details/denison-the-cleveland-school-in-zanesville-11940
END:VEVENT

END:VCALENDAR
