BEGIN:VCALENDAR
VERSION:2.0
PRODID:-//ChamberMaster//Event Calendar 2.0//EN
METHOD:PUBLISH
X-PUBLISHED-TTL:P3D
REFRESH-INTERVAL:P3D
CALSCALE:GREGORIAN
BEGIN:VEVENT
DTSTART:20190302T010000Z
DTEND:20190302T030000Z
X-MICROSOFT-CDO-ALLDAYEVENT:FALSE
SUMMARY:Denison Theatre: ‘Information for Foreigners’
DESCRIPTION:Denison University's Department of Theatre presents "Information for Foreigners" written by Griselda Gambaro and directed by Eleni Papaleonardos.\nFocusing on a critical period in the history of Argentina's social political turmoil\, Gambaro's "Information for Foreigners" deals with the theme of random and meaningless punishment at the hands of an oppressive regime\, and the unwillingness of its citizens to accept the truth or to intervene. This "drama of disappearance" is intended for performance in a house recalling the spaces used for detention and torture. The audience is split into groups and led through a labyrinth of darkened passageways to a series of nightmarish tableaux of terror and degradation. As translator Marguerite Feitlowitz points out\, the set up raises questions about complicity\, about the moral implications of leading\, following\, and bearing witness. It is designed to make audience members reflect moment to moment not only what they're watching\, but that they're watching.\n\nContent Warning: This play depicts events surrounding Argentina's Dirty War and contains scenes implying physical\, sexual\, and psychological violence.\n\n"Information for Foreigners" is an immersive experience. Audience members will walk through a house and climb stairs during the play. There is no conventional seating\, though the audience will have the opportunity to lean against the walls or sit at intervals on  non-traditional seating. This play runs approximately 85 minutes. While the experience is not physically strenuous\, please make reservations with these details in mind.\n\nAdvance reservations must be made due to the audience being divided into groups of specific size upon arrival. Tickets may be reserved on this website or by calling the Box Office at 740-587-6544. Audience members will first meet in the Ace Morgan Lobby of the Theatre Arts Building where they will be divided into groups and escorted to Monomoy.
X-ALT-DESC;FMTTYPE=text/html:<span style="background-color:transparent\; color:rgb(0\, 0\, 0)\; font-family:arial\; font-size:11pt">Denison University&rsquo\;s Department of Theatre presents &ldquo\;Information for Foreigners&rdquo\; written by Griselda Gambaro and directed by Eleni Papaleonardos.</span>\n<p><span style="background-color:transparent\; color:rgb(0\, 0\, 0)\; font-family:arial\; font-size:11pt">Focusing on a critical period in the history of Argentina&rsquo\;s social political turmoil\, Gambaro&rsquo\;s &ldquo\;Information for Foreigners&rdquo\; deals with the theme of random and meaningless punishment at the hands of an oppressive regime\, and the unwillingness of its citizens to accept the truth or to intervene. This &ldquo\;drama of disappearance&rdquo\; is intended for performance in a house recalling the spaces used for detention and torture. The audience is split into groups and led through a labyrinth of darkened passageways to a series of nightmarish tableaux of terror and degradation. As translator Marguerite Feitlowitz points out\, the set up raises questions about complicity\, about the moral implications of leading\, following\, and bearing witness. It is designed to make audience members reflect moment to moment not only what they&rsquo\;re watching\, but that they&rsquo\;re watching.</span></p>\n\n<p>Content Warning: This play depicts events surrounding Argentina&#39\;s Dirty War and contains scenes implying physical\, sexual\, and psychological violence.</p>\n\n<p>&quot\;Information<strong> </strong>for<strong> </strong>Foreigners&rdquo\; is an immersive experience. Audience members will walk through a house and climb stairs during the play. There is no conventional seating\, though the audience will have the opportunity to lean against the walls or sit at intervals on &nbsp\;non-traditional seating. This play runs approximately 85 minutes. While the experience is not physically strenuous\, please make reservations with these details in mind.</p>\n\n<p>Advance<strong>&nbsp\;</strong>reservations must be made<strong> </strong>due to the audience being<strong> </strong>divided into groups of specific size upon arrival. Tickets may be reserved on this website or by calling the Box Office at 740-587-6544. Audience members will first meet in the Ace Morgan Lobby of the Theatre Arts Building where they will be divided into groups and escorted to Monomoy.</p>\n\n<div>&nbsp\;</div>\n
LOCATION:Denison University Monomoy Place 204 West Broadway
UID:e.180.12458
SEQUENCE:3
DTSTAMP:20260420T050701Z
URL:http://business.granvilleoh.com/events/details/denison-theatre-information-for-foreigners-12458
END:VEVENT

END:VCALENDAR
