BEGIN:VCALENDAR
VERSION:2.0
PRODID:-//ChamberMaster//Event Calendar 2.0//EN
METHOD:PUBLISH
X-PUBLISHED-TTL:P3D
REFRESH-INTERVAL:P3D
CALSCALE:GREGORIAN
BEGIN:VEVENT
DTSTART:20190208T213000Z
DTEND:20190208T223000Z
X-MICROSOFT-CDO-ALLDAYEVENT:FALSE
SUMMARY:Denison University's Kantor Lecture Series welcomes Daniel Simons
DESCRIPTION:Denison University's Kantor Lecture Series welcomes Daniel Simons\, professor of psychology and head of the Visual Cognitions Lab at University of Illinois presenting Do "Brain Training" Programs Work? \nIn 2014\, a large group of scientists released a "consensus" letter stating that there is little or no evidence for real cognitive benefits from brain games.\n\n\n\nShortly afterward\, a group of brain training proponents released their own letter touting the extensive evidence for everyday benefits of cognitive training!\n\n\n\nHow could two groups of scientists examine the same literature and come to conflicting "consensus" views about the effectiveness of brain training?\n\n\n\nSimons presents the results of a comprehensive evaluation of all evidence cited by leading brain training companies and proponents as support for the benefits of brain training. Our team found that practicing a brain training game does make you better at that game\, but we found almost no compelling evidence that such games improve everyday cognition or limit the effects of cognitive aging. Simon discusses the state of the evidence\, and the changes to scientific standards that are needed to improve how such interventions are conducted and how their results are interpreted.\n\n\n\nSimon's research explores the limits of awareness and memory\, the reasons why we often are unaware of those limits\, and the implications of such limits for our personal and professional lives. In 2010\, he and his colleague Christopher Chabris co-authored the New York Times bestseller\, "The Invisible Gorilla."
X-ALT-DESC;FMTTYPE=text/html:<span style="background-color:transparent\; color:rgb(0\, 0\, 0)\; font-family:arial\; font-size:11pt">Denison University&rsquo\;s Kantor Lecture Series welcomes Daniel Simons\, professor of psychology and head of the Visual Cognitions Lab at University of Illinois presenting Do &ldquo\;Brain Training&rdquo\; Programs Work? </span>\n<p><span style="background-color:transparent\; color:rgb(0\, 0\, 0)\; font-family:arial\; font-size:11pt">In 2014\, a large group of scientists released a &ldquo\;consensus&rdquo\; letter stating that there is little or no evidence for real cognitive benefits from brain games.</span><br />\n<br />\n<span style="background-color:transparent\; color:rgb(0\, 0\, 0)\; font-family:arial\; font-size:11pt">Shortly afterward\, a group of brain training proponents released their own letter touting the extensive evidence for everyday benefits of cognitive training!</span><br />\n<br />\n<span style="background-color:transparent\; color:rgb(0\, 0\, 0)\; font-family:arial\; font-size:11pt">How could two groups of scientists examine the same literature and come to conflicting &ldquo\;consensus&rdquo\; views about the effectiveness of brain training?</span><br />\n<br />\n<span style="background-color:transparent\; color:rgb(0\, 0\, 0)\; font-family:arial\; font-size:11pt">Simons presents the results of a comprehensive evaluation of all evidence cited by leading brain training companies and proponents as support for the benefits of brain training. Our team found that practicing a brain training game does make you better at that game\, but we found almost no compelling evidence that such games improve everyday cognition or limit the effects of cognitive aging. Simon discusses the state of the evidence\, and the changes to scientific standards that are needed to improve how such interventions are conducted and how their results are interpreted.</span><br />\n<br />\n<span style="background-color:transparent\; color:rgb(0\, 0\, 0)\; font-family:arial\; font-size:11pt">Simon&rsquo\;s research explores the limits of awareness and memory\, the reasons why we often are unaware of those limits\, and the implications of such limits for our personal and professional lives. In 2010\, he and his colleague Christopher Chabris co-authored the New York Times bestseller\, &ldquo\;The Invisible Gorilla.&rdquo\;</span></p>\n\n<div>&nbsp\;</div>\n<span style="background-color:transparent\; color:rgb(0\, 0\, 0)\; font-family:arial\; font-size:11pt"> </span>
LOCATION:Denison University Burton D. Morgan Center 150 Ridge Road
UID:e.180.12440
SEQUENCE:3
DTSTAMP:20260420T022624Z
URL:http://business.granvilleoh.com/events/details/denison-university-s-kantor-lecture-series-welcomes-daniel-simons-02-08-2019-12440
END:VEVENT

END:VCALENDAR
