BEGIN:VCALENDAR
VERSION:2.0
PRODID:-//ChamberMaster//Event Calendar 2.0//EN
METHOD:PUBLISH
X-PUBLISHED-TTL:P3D
REFRESH-INTERVAL:P3D
CALSCALE:GREGORIAN
BEGIN:VEVENT
DTSTART:20190825T190000Z
DTEND:20190825T200000Z
X-MICROSOFT-CDO-ALLDAYEVENT:FALSE
SUMMARY:Denison University Suzuki Music Program Information Meeting
DESCRIPTION:The Denison University Suzuki Music Program will be offering an information session for those who are interested in learning more about the program.\n\n\n\nSuzuki instruction is offered in piano\, violin\, viola\, cello and flute for ages 3 to adult.\n\nThe Suzuki Method is a way of teaching music to children developed by Dr. Shinichi Suzuki who believed in fostering the potential in every young person. Just as all children develop the ability to speak their mother tongue\, Dr. Suzuki believed that any child who is properly trained can develop musical ability and other life-long skills with the help of a skilled and caring teacher and his or her parent.\n\nThe program currently has openings for the upcoming semester. To register for the information meeting or for further information please call Jim Van Reeth\, director of the Denison University Suzuki Music program\, at (740) 975-4644 or e-mail to: vanreethj@denison.edu
X-ALT-DESC;FMTTYPE=text/html:<span style="color:rgb(0\, 0\, 0)\; font-family:arial\; font-size:14.6667px">The</span><span style="background-color:transparent\; color:rgb(0\, 0\, 0)\; font-family:arial\; font-size:11pt">&nbsp\;Denison University Suzuki Music Program will be offering an information session for those who are interested in learning more about the program.</span>\n<div>\n<div>\n<div>\n<p><span style="background-color:transparent\; color:rgb(0\, 0\, 0)\; font-family:arial\; font-size:11pt">Suzuki instruction is offered in piano\, violin\, viola\, cello and flute for ages 3 to adult.</span></p>\n\n<p><span style="background-color:transparent\; color:rgb(0\, 0\, 0)\; font-family:arial\; font-size:11pt">The Suzuki Method is a way of teaching music to children developed by Dr. </span><span style="background-color:transparent\; color:rgb(0\, 0\, 0)\; font-family:arial\; font-size:11pt">Shinichi Suzuki who believed in fostering the potential in every young person. Just as all </span><span style="background-color:transparent\; color:rgb(0\, 0\, 0)\; font-family:arial\; font-size:11pt">children develop the ability to speak their mother tongue\, Dr. Suzuki believed that any </span><span style="background-color:transparent\; color:rgb(0\, 0\, 0)\; font-family:arial\; font-size:11pt">child who is properly trained can develop musical ability and other life-long skills with </span><span style="background-color:transparent\; color:rgb(0\, 0\, 0)\; font-family:arial\; font-size:11pt">the help of a skilled and caring teacher and his or her parent.</span></p>\n\n<p><span style="background-color:transparent\; color:rgb(0\, 0\, 0)\; font-family:arial\; font-size:11pt">The program currently has openings for the upcoming semester. To register for </span><span style="background-color:transparent\; color:rgb(0\, 0\, 0)\; font-family:arial\; font-size:11pt">the information meeting or for further information please call Jim Van Reeth\, director of </span><span style="background-color:transparent\; color:rgb(0\, 0\, 0)\; font-family:arial\; font-size:11pt">the Denison University Suzuki Music program\, at (740) 975-4644 or e-mail to:&nbsp\;</span><a href="mailto:vanreethj@denison.edu" style="background-color: transparent\; font-family: arial\; font-size: 11pt\; color: rgb(17\, 85\, 204)\;" target="_blank">vanreethj@denison.edu</a></p>\n\n<div>&nbsp\;</div>\n\n<div>&nbsp\;</div>\n</div>\n\n<div>&nbsp\;</div>\n</div>\n\n<div><br />\n&nbsp\;</div>\n</div>\n
LOCATION:Denison University Michael D. Eisner Center for the Performing Arts Burke Rehearsal Room 240 W. Broadway
UID:e.180.12807
SEQUENCE:3
DTSTAMP:20260422T102605Z
URL:http://business.granvilleoh.com/events/details/denison-university-suzuki-music-program-information-meeting-12807
END:VEVENT

END:VCALENDAR
