BEGIN:VCALENDAR
VERSION:2.0
PRODID:-//ChamberMaster//Event Calendar 2.0//EN
METHOD:PUBLISH
X-PUBLISHED-TTL:P3D
REFRESH-INTERVAL:P3D
CALSCALE:GREGORIAN
BEGIN:VEVENT
DTSTART:20190627T210000Z
DTEND:20190627T230000Z
X-MICROSOFT-CDO-ALLDAYEVENT:FALSE
SUMMARY:Denison Welcomes Community Members to Tour New Michael D. Eisner Center for the Performing Arts
DESCRIPTION:Denison is opening the doors to the newly-constructed Michael D. Eisner Center for the Performing Arts and inviting the community members to tour the dynamic\, interactive space. Home to the departments of Dance\, Music\, and Theatre\, the Eisner Center also encompasses the former Burke Hall\, which includes the Denison Museum and the Burke Gallery for exhibitions.\n\nThe Eisner Center houses versatile stages and rehearsal spaces with cutting-edge technologies\; classrooms specifically equipped for the arts\; department offices\; and many open spaces especially configured to encourage interdisciplinary activity. All told\, Denison now offers its students\, faculty\, and programs more than 108\,000 square feet of enterprising space to collaborate\, create\, and produce a wide spectrum of performing arts\, in keeping with Denison's long tradition of excellence in the arts.\n\nDenison University received a grant from The Eisner Foundation of more than $5 million to build the new performing arts building.\n\nTours will be self-guided and staff will be available throughout the building to provide information and direction. Street parking is available on Broadway with ADA access on the west side of the building.
X-ALT-DESC;FMTTYPE=text/html:<p><span style="background-color:transparent\; color:rgb(0\, 0\, 0)\; font-family:arial\; font-size:11pt">Denison is opening the doors to the newly-constructed Michael D. Eisner&nbsp\;</span><span style="background-color:transparent\; color:rgb(0\, 0\, 0)\; font-family:arial\; font-size:11pt">Center for the Performing Arts and inviting the community members to tour the dynamic\,&nbsp\;</span><span style="background-color:transparent\; color:rgb(0\, 0\, 0)\; font-family:arial\; font-size:11pt">interactive space. Home to the departments of Dance\, Music\, and Theatre\, the Eisner Center also encompasses the former Burke Hall\, which includes the Denison Museum and the Burke Gallery for exhibitions.</span></p>\n\n<p><span style="background-color:transparent\; color:rgb(0\, 0\, 0)\; font-family:arial\; font-size:11pt">The Eisner Center houses versatile stages and rehearsal spaces with cutting-edge technologies\; classrooms specifically equipped for the arts\; department offices\; and many open spaces especially configured to encourage interdisciplinary activity. All told\, Denison now offers its students\, faculty\, and programs more than 108\,000 square feet of enterprising space to&nbsp\;</span><span style="background-color:transparent\; color:rgb(0\, 0\, 0)\; font-family:arial\; font-size:11pt">collaborate\, create\, and produce a wide spectrum of performing arts\, in keeping with Denison&rsquo\;s&nbsp\;</span><span style="background-color:transparent\; color:rgb(0\, 0\, 0)\; font-family:arial\; font-size:11pt">long tradition of excellence in the arts.</span></p>\n\n<p><span style="background-color:transparent\; color:rgb(0\, 0\, 0)\; font-family:arial\; font-size:11pt">Denison University received a grant from The Eisner Foundation of more than $5 million to build the new performing arts building.</span></p>\n\n<p><span style="background-color:transparent\; color:rgb(0\, 0\, 0)\; font-family:arial\; font-size:11pt">Tours will be self-guided and staff will be available throughout&nbsp\;</span><span style="background-color:transparent\; color:rgb(0\, 0\, 0)\; font-family:arial\; font-size:11pt">the building to provide information and direction. Street parking is available on Broadway with&nbsp\;</span><span style="background-color:transparent\; color:rgb(0\, 0\, 0)\; font-family:arial\; font-size:11pt">ADA access on the west side of the building.</span></p>\n\n<div>&nbsp\;</div>\n
LOCATION:Denison University Michael D. Eisner Center for the Performing Arts Open House 240 West Broadway
UID:e.180.12692
SEQUENCE:3
DTSTAMP:20260420T083822Z
URL:http://business.granvilleoh.com/events/details/denison-welcomes-community-members-to-tour-new-michael-d-eisner-center-for-the-performing-arts-12692
END:VEVENT

END:VCALENDAR
