BEGIN:VCALENDAR
VERSION:2.0
PRODID:-//ChamberMaster//Event Calendar 2.0//EN
METHOD:PUBLISH
X-PUBLISHED-TTL:P3D
REFRESH-INTERVAL:P3D
CALSCALE:GREGORIAN
BEGIN:VEVENT
DTSTART:20190426T230000Z
DTEND:20190427T000000Z
X-MICROSOFT-CDO-ALLDAYEVENT:FALSE
SUMMARY:Denison Wind Ensemble concert
DESCRIPTION:The Denison University Wind Ensemble presents a concert\, directed by Chris Westover.
X-ALT-DESC;FMTTYPE=text/html:The Denison University Wind Ensemble presents a concert\, directed by Chris Westover.
LOCATION:Denison University Swasey Chapel 200 Chapel Drive
UID:e.180.12533
SEQUENCE:3
DTSTAMP:20260420T050613Z
URL:http://business.granvilleoh.com/events/details/denison-wind-ensemble-concert-04-26-2019-12533
END:VEVENT

END:VCALENDAR
