BEGIN:VCALENDAR
VERSION:2.0
PRODID:-//ChamberMaster//Event Calendar 2.0//EN
METHOD:PUBLISH
X-PUBLISHED-TTL:P3D
REFRESH-INTERVAL:P3D
CALSCALE:GREGORIAN
BEGIN:VEVENT
DTSTART:20190726T230000Z
DTEND:20190728T180000Z
X-MICROSOFT-CDO-ALLDAYEVENT:FALSE
SUMMARY:Disney's Freaky Friday One Act Edition
DESCRIPTION:*This production is performed by WYART Production students* By spending a day in each other's shoes\, Katherine and Ellie come to appreciate one another in a way they never could have imagined. In the end\, both learn the true power of love and the strength of the bond between a mother and daughter in this heartfelt and hilarious adaptation. FREAKY FRIDAY features a book by Bridget Carpenter   the writer of the TV hits\, "Friday Night Lights" and "Parenthood"   and music and lyrics by Tom Kitt and Brian Yorkey   the Pulitzer Prize and Tony Award-winning composers of Next to Normal.
X-ALT-DESC;FMTTYPE=text/html:*This production is performed by WYART Production students* By spending a day in each other&rsquo\;s shoes\, Katherine and Ellie come to appreciate one another in a way they never could have imagined. In the end\, both learn the true power of love and the strength of the bond between a mother and daughter in this heartfelt and hilarious adaptation. FREAKY FRIDAY features a book by Bridget Carpenter &ndash\; the writer of the TV hits\, &ldquo\;Friday Night Lights&rdquo\; and &ldquo\;Parenthood&rdquo\; &ndash\; and music and lyrics by Tom Kitt and Brian Yorkey &ndash\; the Pulitzer Prize and Tony Award-winning composers of Next to Normal.
LOCATION:Larry W and Dawn Holt Anderson Children's Theatre 100 Price Road Newark\, OH 43055
UID:e.180.12685
SEQUENCE:3
DTSTAMP:20260422T085157Z
URL:http://business.granvilleoh.com/events/details/disney-s-freaky-friday-one-act-edition-12685
END:VEVENT

END:VCALENDAR
